BEGIN:VCALENDAR
VERSION:2.0
PRODID:-//Pearl Jozefzoon - Zangeres, songwriter, zangcoach - ECPv6.15.7//NONSGML v1.0//EN
CALSCALE:GREGORIAN
METHOD:PUBLISH
X-ORIGINAL-URL:https://pearljozefzoon.com
X-WR-CALDESC:Evenementen voor Pearl Jozefzoon - Zangeres, songwriter, zangcoach
REFRESH-INTERVAL;VALUE=DURATION:PT1H
X-Robots-Tag:noindex
X-PUBLISHED-TTL:PT1H
BEGIN:VTIMEZONE
TZID:Europe/Amsterdam
BEGIN:DAYLIGHT
TZOFFSETFROM:+0100
TZOFFSETTO:+0200
TZNAME:CEST
DTSTART:20240331T010000
END:DAYLIGHT
BEGIN:STANDARD
TZOFFSETFROM:+0200
TZOFFSETTO:+0100
TZNAME:CET
DTSTART:20241027T010000
END:STANDARD
BEGIN:DAYLIGHT
TZOFFSETFROM:+0100
TZOFFSETTO:+0200
TZNAME:CEST
DTSTART:20250330T010000
END:DAYLIGHT
BEGIN:STANDARD
TZOFFSETFROM:+0200
TZOFFSETTO:+0100
TZNAME:CET
DTSTART:20251026T010000
END:STANDARD
BEGIN:DAYLIGHT
TZOFFSETFROM:+0100
TZOFFSETTO:+0200
TZNAME:CEST
DTSTART:20260329T010000
END:DAYLIGHT
BEGIN:STANDARD
TZOFFSETFROM:+0200
TZOFFSETTO:+0100
TZNAME:CET
DTSTART:20261025T010000
END:STANDARD
END:VTIMEZONE
BEGIN:VEVENT
DTSTART;TZID=Europe/Amsterdam:20251211T080000
DTEND;TZID=Europe/Amsterdam:20251211T120000
DTSTAMP:20260420T202607
CREATED:20251128T141018Z
LAST-MODIFIED:20251128T141018Z
UID:1064-1765440000-1765454400@pearljozefzoon.com
SUMMARY:Besloten Event: Theater het Gooiland te Hilversum
DESCRIPTION:
URL:https://pearljozefzoon.com/evenement/besloten-event-theater-het-gooiland-te-hilversum/
CATEGORIES:Besloten event
END:VEVENT
BEGIN:VEVENT
DTSTART;TZID=Europe/Amsterdam:20251213T200000
DTEND;TZID=Europe/Amsterdam:20251213T220000
DTSTAMP:20260420T202607
CREATED:20251002T154041Z
LAST-MODIFIED:20251031T102635Z
UID:1008-1765656000-1765663200@pearljozefzoon.com
SUMMARY:PC de Rozengaard: Kerstconcert Pearl Jozefzoon & Total Praise
DESCRIPTION:Kerstconcert – Het Licht Komt Eraan!\nBeleef een hartverwarmende kerstavond met Pearl Jozefzoon en haar gospelkoor Total Praise!\nBekend van tv-programma’s als Zing! en Nederland Zingt brengen Pearl en haar koor\, samen met professionele muzikanten\, een avond vol muziek\, samenzang en gospel. \nGeniet van een feestelijke mix van bekende worshipsongs\, swingende black gospel zoals Oh Happy Day en Joyful Joyful\, en prachtige close harmony. Alles nodigt uit om lekker mee te zingen en soms zelfs mee te swingen. \n  \n\nTICKETS >>>
URL:https://pearljozefzoon.com/evenement/pc-de-rozengaard-kerstconcert-pearl-jozefzoon-total-praise/
LOCATION:H. Dionysiuskerk\, Rozengaarde 51\, Rijssen\, Netherlands
ATTACH;FMTTYPE=image/jpeg:https://pearljozefzoon.com/wp-content/uploads/2025/10/thumbnail_IMG_7122.jpg
END:VEVENT
BEGIN:VEVENT
DTSTART;TZID=Europe/Amsterdam:20251215T193000
DTEND;TZID=Europe/Amsterdam:20251215T213000
DTSTAMP:20260420T202607
CREATED:20251018T111101Z
LAST-MODIFIED:20251031T104625Z
UID:1043-1765827000-1765834200@pearljozefzoon.com
SUMMARY:Volkskerstzang Hengelo te Hengelo
DESCRIPTION:Maandagavond 15 december\, buiten is het donker\, en klinken de klanken van de midwinterhoorns. In de sfeervolle stadhuishal klinkt prachtige muziek\, Pearl Jozefzoon zingt met haar koor de mooiste kerstliederen. We verwachten dat heel Hengelo\, en ver daarbuiten\, daarbij willen zijn. \n  \nTICKETS >>>
URL:https://pearljozefzoon.com/evenement/kerstevenement-te-hengelo/
END:VEVENT
BEGIN:VEVENT
DTSTART;TZID=Europe/Amsterdam:20251216T200000
DTEND;TZID=Europe/Amsterdam:20251216T210000
DTSTAMP:20260420T202607
CREATED:20251018T111653Z
LAST-MODIFIED:20251018T111653Z
UID:1045-1765915200-1765918800@pearljozefzoon.com
SUMMARY:Dinnershow Sint Anthony Gasthuis te Leeuwarden
DESCRIPTION:
URL:https://pearljozefzoon.com/evenement/dinnershow-sint-anthony-gasthuis-te-leeuwarden/
END:VEVENT
BEGIN:VEVENT
DTSTART;TZID=Europe/Amsterdam:20251219T193000
DTEND;TZID=Europe/Amsterdam:20251219T210000
DTSTAMP:20260420T202607
CREATED:20251009T122327Z
LAST-MODIFIED:20251125T200245Z
UID:1014-1766172600-1766178000@pearljozefzoon.com
SUMMARY:A Night of Gospel The Christmas Edition Culemborg (UITVERKOCHT!)
DESCRIPTION:A Night of Gospel “The Christmas Edition” is een show met Nederlands grote Gospel ster Pearl Jozefzoon en haar fantastische gospelkoor “Total Praise”\, plus live band.\nPearl is geen onbekende meer in het artiestenwereldje\, zij genoot veel naam en bekendheid via diverse tv programma’s en samenwerkingen met diverse grote artiesten.\nSpeciaal voor kerst heeft zij een waanzinnige kerstshow opgezet met daarin alle kerstklassiekers die vrijwel iedereen kent\, zowel oldies als de wat meer moderne kersthits worden op een ongekend mooie manier gepresenteerd in deze prachtige kerk van Culemborg.\nAlle songs worden gebracht in spectaculaire gospelversies-vol energie\, en gospel-like arrangementen.\nKortom; De ultieme kerstbeleving aan de vooravond van kerstmis!! \nDeuren gaan om 18:30u open\nShowtime: 19:30u \nTICKETS >>> \nPs. Het betreft een zittende show
URL:https://pearljozefzoon.com/evenement/a-night-of-gospel-the-christmas-edition-culemborg/
LOCATION:Barbarakerk\, Grote Kerkstraat 4\, Culemborg
END:VEVENT
BEGIN:VEVENT
DTSTART;TZID=Europe/Amsterdam:20251220T193000
DTEND;TZID=Europe/Amsterdam:20251220T210000
DTSTAMP:20260420T202607
CREATED:20251009T123831Z
LAST-MODIFIED:20251009T164235Z
UID:1019-1766259000-1766264400@pearljozefzoon.com
SUMMARY:A Night of Gospel The Christmas Edition Boxmeer
DESCRIPTION:A Night of Gospel “The Christmas Edition” is een show met Nederlands grote Gospel ster Pearl Jozefzoon en haar fantastische gospelkoor “Total Praise”\, plus live band.\nPearl is geen onbekende meer in het artiestenwereldje\, zij genoot veel naam en bekendheid via diverse tv programma’s en samenwerkingen met diverse grote artiesten.\nSpeciaal voor kerst heeft zij een waanzinnige kerstshow opgezet met daarin alle kerstklassiekers die vrijwel iedereen kent\, zowel oldies als de wat meer moderne kersthits worden op een ongekend mooie manier gepresenteerd in deze prachtige kerk van Boxmeer.\nAlle songs worden gebracht in spectaculaire gospelversies-vol energie\, en gospel-like arrangementen.\nKortom; De ultieme kerstbeleving aan de vooravond van kerstmis!! \nDeuren gaan om 18:30u open\nshowtime: 19:30u \nTICKETS >>> \nPs. Het betreft een zittende show
URL:https://pearljozefzoon.com/evenement/a-night-of-gospel-the-christmas-edition-boxmeer/
LOCATION:Sint-Petrusbasiliek\, Steenstraat 41\, Boxmeer\, Netherlands
END:VEVENT
BEGIN:VEVENT
DTSTART;TZID=Europe/Amsterdam:20251221T110000
DTEND;TZID=Europe/Amsterdam:20251221T123000
DTSTAMP:20260420T202607
CREATED:20251001T185426Z
LAST-MODIFIED:20251031T102304Z
UID:1000-1766314800-1766320200@pearljozefzoon.com
SUMMARY:Credo Worship Service met Pearl Jozefzoon te Amsterdam
DESCRIPTION:
URL:https://pearljozefzoon.com/evenement/credo-worship-service-met-pearl-jozefzoon-te-amsterdam/
LOCATION:Credo Church\, Kometensingel 58\, Amsterdam\, NH\, 1033 BW\, Netherlands
END:VEVENT
BEGIN:VEVENT
DTSTART;TZID=Europe/Amsterdam:20251221T193000
DTEND;TZID=Europe/Amsterdam:20251221T210000
DTSTAMP:20260420T202607
CREATED:20251009T124850Z
LAST-MODIFIED:20251125T200237Z
UID:1026-1766345400-1766350800@pearljozefzoon.com
SUMMARY:A Night of Gospel The Christmas Edition Veghel (UITVERKOCHT!)
DESCRIPTION:A Night of Gospel “The Christmas Edition” is een show met Nederlands grote Gospel ster Pearl Jozefzoon en haar fantastische gospelkoor “Total Praise”\, plus live band.\nPearl is geen onbekende meer in het artiestenwereldje\, zij genoot veel naam en bekendheid via diverse tv programma’s en samenwerkingen met diverse grote artiesten.\nSpeciaal voor kerst heeft zij een waanzinnige kerstshow opgezet met daarin alle kerstklassiekers die vrijwel iedereen kent\, zowel oldies als de wat meer moderne kersthits worden op een ongekend mooie manier gepresenteerd in deze prachtige kerk van Veghel.\nAlle songs worden gebracht in spectaculaire gospelversies-vol energie\, en gospel-like arrangementen.\nKortom; De ultieme kerstbeleving aan de vooravond van kerstmis!! \nDeuren gaan om 18:30u open\nshowtime: 19:30u \nTICKETS >>> \nPs. Het betreft een zittende show
URL:https://pearljozefzoon.com/evenement/tribute-to-mtv-unplugged-a-night-of-gospel-the-christmas-edition-veghel/
LOCATION:Sint-Lambertuskerk\, Deken van Miertstraat 2\, Veghel\, Netherlands
END:VEVENT
BEGIN:VEVENT
DTSTART;TZID=Europe/Amsterdam:20251222T193000
DTEND;TZID=Europe/Amsterdam:20251222T210000
DTSTAMP:20260420T202607
CREATED:20251009T125335Z
LAST-MODIFIED:20251128T141456Z
UID:1029-1766431800-1766437200@pearljozefzoon.com
SUMMARY:A Night of Gospel The Christmas Edition Apeldoorn (UITVERKOCHT!)
DESCRIPTION:A Night of Gospel “The Christmas Edition” is een show met Nederlands grote Gospel ster Pearl Jozefzoon en haar fantastische gospelkoor “Total Praise”\, plus live band.\nPearl is geen onbekende meer in het artiestenwereldje\, zij genoot veel naam en bekendheid via diverse tv programma’s en samenwerkingen met diverse grote artiesten.\nSpeciaal voor kerst heeft zij een waanzinnige kerstshow opgezet met daarin alle kerstklassiekers die vrijwel iedereen kent\, zowel oldies als de wat meer moderne kersthits worden op een ongekend mooie manier gepresenteerd in deze prachtige kerk van Apeldoorn.\nAlle songs worden gebracht in spectaculaire gospelversies-vol energie\, en gospel-like arrangementen.\nKortom; De ultieme kerstbeleving aan de vooravond van kerstmis!! \nDeuren gaan om 18:30u open\nshowtime: 19:30u \nTICKETS >>> \nPs. Het betreft een zittende show
URL:https://pearljozefzoon.com/evenement/tribute-to-mtv-unplugged-a-night-of-gospel-the-christmas-edition-apeldoorn/
LOCATION:Grote Kerk\, Loolaan 16\, Apeldoorn\, Netherlands
END:VEVENT
BEGIN:VEVENT
DTSTART;TZID=Europe/Amsterdam:20251223T194500
DTEND;TZID=Europe/Amsterdam:20251223T213000
DTSTAMP:20260420T202607
CREATED:20251128T141407Z
LAST-MODIFIED:20251128T141407Z
UID:1066-1766519100-1766525400@pearljozefzoon.com
SUMMARY:Kerstzangavond 2025 Ten Boer
DESCRIPTION:Omdat de kerstzangavond op 23 december haar 20ste editie viert\, konden we niet anders dan groots uitpakken. Op één avond geniet u van Sharon Kips\, Pearl Jozefzoon\, The Myles Brothers\, De Stroatklinkers en uiteraard Volharding Ten Boer. \n  \nGaat u er maar even goed voor zitten\, want dit jaar brengen wij u de grootste kerstzangavond die we ooit hebben georganiseerd! Met maar liefst vier artiesten én natuurlijk de toppers van Volharding Ten Boer. \n \nOmdat de kerstzangavond op 23 december haar 20ste editie viert\, konden we niet anders dan groots uitpakken. Op één avond geniet u van Sharon Kips\, Pearl Jozefzoon\, The Myles Brothers\, De Stroatklinkers en uiteraard Volharding Ten Boer. \n \nU bent van harte uitgenodigd om samen met ons Kerst te vieren in de sporthal van Ten Boer. \nOndanks dat dit de grootste editie ooit wordt\, is het ons gelukt de toegang gratis te houden. Wel vragen wij u om\, indien mogelijk\, een kleine donatie te doen. Dit kan tijdens de avond zelf\, maar u kunt ons ook nu al steunen via de QR-code op de flyer (binnenkort in uw brievenbus) of via de link hieronder. Alvast hartelijk dank voor uw steun! \n \nWe kijken ernaar uit u te verwelkomen op 23 december!
URL:https://pearljozefzoon.com/evenement/kerstzangavond-2025-ten-boer/
LOCATION:Tiggelhal Ten Boer\, Sportlaan\, Ten Boer\, 9791 LX\, Netherlands
END:VEVENT
END:VCALENDAR