BEGIN:VCALENDAR
VERSION:2.0
PRODID:-//Pearl Jozefzoon - Zangeres, songwriter, zangcoach - ECPv6.15.7//NONSGML v1.0//EN
CALSCALE:GREGORIAN
METHOD:PUBLISH
X-WR-CALNAME:Pearl Jozefzoon - Zangeres, songwriter, zangcoach
X-ORIGINAL-URL:https://pearljozefzoon.com
X-WR-CALDESC:Evenementen voor Pearl Jozefzoon - Zangeres, songwriter, zangcoach
REFRESH-INTERVAL;VALUE=DURATION:PT1H
X-Robots-Tag:noindex
X-PUBLISHED-TTL:PT1H
BEGIN:VTIMEZONE
TZID:Europe/Amsterdam
BEGIN:DAYLIGHT
TZOFFSETFROM:+0100
TZOFFSETTO:+0200
TZNAME:CEST
DTSTART:20240331T010000
END:DAYLIGHT
BEGIN:STANDARD
TZOFFSETFROM:+0200
TZOFFSETTO:+0100
TZNAME:CET
DTSTART:20241027T010000
END:STANDARD
BEGIN:DAYLIGHT
TZOFFSETFROM:+0100
TZOFFSETTO:+0200
TZNAME:CEST
DTSTART:20250330T010000
END:DAYLIGHT
BEGIN:STANDARD
TZOFFSETFROM:+0200
TZOFFSETTO:+0100
TZNAME:CET
DTSTART:20251026T010000
END:STANDARD
BEGIN:DAYLIGHT
TZOFFSETFROM:+0100
TZOFFSETTO:+0200
TZNAME:CEST
DTSTART:20260329T010000
END:DAYLIGHT
BEGIN:STANDARD
TZOFFSETFROM:+0200
TZOFFSETTO:+0100
TZNAME:CET
DTSTART:20261025T010000
END:STANDARD
END:VTIMEZONE
BEGIN:VEVENT
DTSTART;TZID=Europe/Amsterdam:20250307T201500
DTEND;TZID=Europe/Amsterdam:20250307T220000
DTSTAMP:20260420T202650
CREATED:20241007T085040Z
LAST-MODIFIED:20241124T144028Z
UID:824-1741378500-1741384800@pearljozefzoon.com
SUMMARY:A Night Of Gospel With Pearl & Tim Akkerman - Purmerend
DESCRIPTION:Aan de hand van liedjes en verhalen neemt Pearl Jozefzoon je mee in de wereld van de gospel. Mooie anekdotes uit haar leven en bijzondere nummers\, maar ook (wereld)bekende nummers met een gospelsausje komen voorbij. Zo puur heb je Pearl nog niet eerder gezien\, want haar echte passie ligt bij gospel! \nPearl en gospel zijn onlosmakelijk met elkaar verbonden. Reden genoeg om de theaters in te gaan met een wervelende\, nieuwe show. Met haar loepzuivere stem wist de zangeres tijdens concerten\, musicals en TV-optredens al indruk te maken\, maar ‘A Night of Gospel’ doet ze niet alleen. Bij gospel gaat het namelijk om samenzang! Om de beleving compleet te maken\, komt ze met een voltallig gospelkoor\, ondersteund door een ‘full band’. Iedereen op het podium heeft zijn of haar sporen al verdiend in de muziekwereld. \nDe afgelopen jaren heeft Pearl samen mogen werken met tal van bekende vocalisten. Allen zijn ze gecharmeerd van de kwaliteiten van Pearl als zangeres én als persoon. Bij elk concert zal een topzanger(es) meezingen\, met natuurlijk ook eigen liedjes met een gospelsound. Zo wordt elk concert van ‘A Night of Gospel’ uniek! Bij de voorstelling op 7 maart 2025 in de Purmaryn in Purmerend komt niemand minder dan singer-songwiter\, zanger en muzikant TIM AKKERMAN mee om zijn passie met muziek zingend en vertellend te delen! \nTICKETS >>>
URL:https://pearljozefzoon.com/evenement/pearl-jozefzoon-a-night-of-gospel-with-pearl-friends/
LOCATION:Theater de Purmaryn\, Waagplein 1\, Purmerend\, Noord-Holland\, 1441BR\, Nederland
CATEGORIES:Theaterconcert
ATTACH;FMTTYPE=image/jpeg:https://pearljozefzoon.com/wp-content/uploads/2024/10/A-Night-of-Gospel_Web.jpg
END:VEVENT
END:VCALENDAR