BEGIN:VCALENDAR
VERSION:2.0
PRODID:-//Pearl Jozefzoon - Zangeres, songwriter, zangcoach - ECPv6.15.7//NONSGML v1.0//EN
CALSCALE:GREGORIAN
METHOD:PUBLISH
X-WR-CALNAME:Pearl Jozefzoon - Zangeres, songwriter, zangcoach
X-ORIGINAL-URL:https://pearljozefzoon.com
X-WR-CALDESC:Evenementen voor Pearl Jozefzoon - Zangeres, songwriter, zangcoach
REFRESH-INTERVAL;VALUE=DURATION:PT1H
X-Robots-Tag:noindex
X-PUBLISHED-TTL:PT1H
BEGIN:VTIMEZONE
TZID:Europe/Amsterdam
BEGIN:DAYLIGHT
TZOFFSETFROM:+0100
TZOFFSETTO:+0200
TZNAME:CEST
DTSTART:20230326T010000
END:DAYLIGHT
BEGIN:STANDARD
TZOFFSETFROM:+0200
TZOFFSETTO:+0100
TZNAME:CET
DTSTART:20231029T010000
END:STANDARD
BEGIN:DAYLIGHT
TZOFFSETFROM:+0100
TZOFFSETTO:+0200
TZNAME:CEST
DTSTART:20240331T010000
END:DAYLIGHT
BEGIN:STANDARD
TZOFFSETFROM:+0200
TZOFFSETTO:+0100
TZNAME:CET
DTSTART:20241027T010000
END:STANDARD
BEGIN:DAYLIGHT
TZOFFSETFROM:+0100
TZOFFSETTO:+0200
TZNAME:CEST
DTSTART:20250330T010000
END:DAYLIGHT
BEGIN:STANDARD
TZOFFSETFROM:+0200
TZOFFSETTO:+0100
TZNAME:CET
DTSTART:20251026T010000
END:STANDARD
END:VTIMEZONE
BEGIN:VEVENT
DTSTART;TZID=Europe/Amsterdam:20241005T100000
DTEND;TZID=Europe/Amsterdam:20241005T160000
DTSTAMP:20260422T161904
CREATED:20240722T083411Z
LAST-MODIFIED:20240722T083411Z
UID:796-1728122400-1728144000@pearljozefzoon.com
SUMMARY:Villavie Event Ede
DESCRIPTION:
URL:https://pearljozefzoon.com/evenement/villavie-event-ede/
LOCATION:De Schuilplaats\, Otterloseweg 18a\, Ede\, Nederland
END:VEVENT
BEGIN:VEVENT
DTSTART;TZID=Europe/Amsterdam:20241005T200000
DTEND;TZID=Europe/Amsterdam:20241005T220000
DTSTAMP:20260422T161904
CREATED:20240722T083645Z
LAST-MODIFIED:20240722T083645Z
UID:799-1728158400-1728165600@pearljozefzoon.com
SUMMARY:Pearl & Harmonieorkest KTVM 120 jaar
DESCRIPTION:
URL:https://pearljozefzoon.com/evenement/pearl-harmonieorkest-ktvm-120-jaar/
LOCATION:Theater Agnietenhof\, Sint Agnietenstraat 2\, Tiel\, Nederland
END:VEVENT
BEGIN:VEVENT
DTSTART;TZID=Europe/Amsterdam:20241012T200000
DTEND;TZID=Europe/Amsterdam:20241012T220000
DTSTAMP:20260422T161904
CREATED:20240722T083812Z
LAST-MODIFIED:20240722T083812Z
UID:802-1728763200-1728770400@pearljozefzoon.com
SUMMARY:Live recording ADEM Project
DESCRIPTION:
URL:https://pearljozefzoon.com/evenement/live-recording-adem-project/
LOCATION:N.t.b.\, Nederland
END:VEVENT
BEGIN:VEVENT
DTSTART;TZID=Europe/Amsterdam:20241019T200000
DTEND;TZID=Europe/Amsterdam:20241019T220000
DTSTAMP:20260422T161904
CREATED:20240722T084011Z
LAST-MODIFIED:20240722T084011Z
UID:805-1729368000-1729375200@pearljozefzoon.com
SUMMARY:Pear\, Total Praise & Mannenkoor Bel Canto
DESCRIPTION:
URL:https://pearljozefzoon.com/evenement/pear-total-praise-mannenkoor-bel-canto/
LOCATION:Onze Lieve Vrouwkerk Apeldoorn\, Hoofdstraat 18\, Apeldoorn\, Nederland
END:VEVENT
END:VCALENDAR