BEGIN:VCALENDAR
VERSION:2.0
PRODID:-//Pearl Jozefzoon - Zangeres, songwriter, zangcoach - ECPv6.15.7//NONSGML v1.0//EN
CALSCALE:GREGORIAN
METHOD:PUBLISH
X-WR-CALNAME:Pearl Jozefzoon - Zangeres, songwriter, zangcoach
X-ORIGINAL-URL:https://pearljozefzoon.com
X-WR-CALDESC:Evenementen voor Pearl Jozefzoon - Zangeres, songwriter, zangcoach
REFRESH-INTERVAL;VALUE=DURATION:PT1H
X-Robots-Tag:noindex
X-PUBLISHED-TTL:PT1H
BEGIN:VTIMEZONE
TZID:Europe/Amsterdam
BEGIN:DAYLIGHT
TZOFFSETFROM:+0100
TZOFFSETTO:+0200
TZNAME:CEST
DTSTART:20240331T010000
END:DAYLIGHT
BEGIN:STANDARD
TZOFFSETFROM:+0200
TZOFFSETTO:+0100
TZNAME:CET
DTSTART:20241027T010000
END:STANDARD
BEGIN:DAYLIGHT
TZOFFSETFROM:+0100
TZOFFSETTO:+0200
TZNAME:CEST
DTSTART:20250330T010000
END:DAYLIGHT
BEGIN:STANDARD
TZOFFSETFROM:+0200
TZOFFSETTO:+0100
TZNAME:CET
DTSTART:20251026T010000
END:STANDARD
BEGIN:DAYLIGHT
TZOFFSETFROM:+0100
TZOFFSETTO:+0200
TZNAME:CEST
DTSTART:20260329T010000
END:DAYLIGHT
BEGIN:STANDARD
TZOFFSETFROM:+0200
TZOFFSETTO:+0100
TZNAME:CET
DTSTART:20261025T010000
END:STANDARD
BEGIN:DAYLIGHT
TZOFFSETFROM:+0100
TZOFFSETTO:+0200
TZNAME:CEST
DTSTART:20270328T010000
END:DAYLIGHT
BEGIN:STANDARD
TZOFFSETFROM:+0200
TZOFFSETTO:+0100
TZNAME:CET
DTSTART:20271031T010000
END:STANDARD
END:VTIMEZONE
BEGIN:VEVENT
DTSTART;TZID=Europe/Amsterdam:20251221T193000
DTEND;TZID=Europe/Amsterdam:20251221T210000
DTSTAMP:20260422T015800
CREATED:20251009T124850Z
LAST-MODIFIED:20251125T200237Z
UID:1026-1766345400-1766350800@pearljozefzoon.com
SUMMARY:A Night of Gospel The Christmas Edition Veghel (UITVERKOCHT!)
DESCRIPTION:A Night of Gospel “The Christmas Edition” is een show met Nederlands grote Gospel ster Pearl Jozefzoon en haar fantastische gospelkoor “Total Praise”\, plus live band.\nPearl is geen onbekende meer in het artiestenwereldje\, zij genoot veel naam en bekendheid via diverse tv programma’s en samenwerkingen met diverse grote artiesten.\nSpeciaal voor kerst heeft zij een waanzinnige kerstshow opgezet met daarin alle kerstklassiekers die vrijwel iedereen kent\, zowel oldies als de wat meer moderne kersthits worden op een ongekend mooie manier gepresenteerd in deze prachtige kerk van Veghel.\nAlle songs worden gebracht in spectaculaire gospelversies-vol energie\, en gospel-like arrangementen.\nKortom; De ultieme kerstbeleving aan de vooravond van kerstmis!! \nDeuren gaan om 18:30u open\nshowtime: 19:30u \nTICKETS >>> \nPs. Het betreft een zittende show
URL:https://pearljozefzoon.com/evenement/tribute-to-mtv-unplugged-a-night-of-gospel-the-christmas-edition-veghel/
LOCATION:Sint-Lambertuskerk\, Deken van Miertstraat 2\, Veghel\, Netherlands
END:VEVENT
BEGIN:VEVENT
DTSTART;TZID=Europe/Amsterdam:20251222T193000
DTEND;TZID=Europe/Amsterdam:20251222T210000
DTSTAMP:20260422T015800
CREATED:20251009T125335Z
LAST-MODIFIED:20251128T141456Z
UID:1029-1766431800-1766437200@pearljozefzoon.com
SUMMARY:A Night of Gospel The Christmas Edition Apeldoorn (UITVERKOCHT!)
DESCRIPTION:A Night of Gospel “The Christmas Edition” is een show met Nederlands grote Gospel ster Pearl Jozefzoon en haar fantastische gospelkoor “Total Praise”\, plus live band.\nPearl is geen onbekende meer in het artiestenwereldje\, zij genoot veel naam en bekendheid via diverse tv programma’s en samenwerkingen met diverse grote artiesten.\nSpeciaal voor kerst heeft zij een waanzinnige kerstshow opgezet met daarin alle kerstklassiekers die vrijwel iedereen kent\, zowel oldies als de wat meer moderne kersthits worden op een ongekend mooie manier gepresenteerd in deze prachtige kerk van Apeldoorn.\nAlle songs worden gebracht in spectaculaire gospelversies-vol energie\, en gospel-like arrangementen.\nKortom; De ultieme kerstbeleving aan de vooravond van kerstmis!! \nDeuren gaan om 18:30u open\nshowtime: 19:30u \nTICKETS >>> \nPs. Het betreft een zittende show
URL:https://pearljozefzoon.com/evenement/tribute-to-mtv-unplugged-a-night-of-gospel-the-christmas-edition-apeldoorn/
LOCATION:Grote Kerk\, Loolaan 16\, Apeldoorn\, Netherlands
END:VEVENT
BEGIN:VEVENT
DTSTART;TZID=Europe/Amsterdam:20251223T194500
DTEND;TZID=Europe/Amsterdam:20251223T213000
DTSTAMP:20260422T015800
CREATED:20251128T141407Z
LAST-MODIFIED:20251128T141407Z
UID:1066-1766519100-1766525400@pearljozefzoon.com
SUMMARY:Kerstzangavond 2025 Ten Boer
DESCRIPTION:Omdat de kerstzangavond op 23 december haar 20ste editie viert\, konden we niet anders dan groots uitpakken. Op één avond geniet u van Sharon Kips\, Pearl Jozefzoon\, The Myles Brothers\, De Stroatklinkers en uiteraard Volharding Ten Boer. \n  \nGaat u er maar even goed voor zitten\, want dit jaar brengen wij u de grootste kerstzangavond die we ooit hebben georganiseerd! Met maar liefst vier artiesten én natuurlijk de toppers van Volharding Ten Boer. \n \nOmdat de kerstzangavond op 23 december haar 20ste editie viert\, konden we niet anders dan groots uitpakken. Op één avond geniet u van Sharon Kips\, Pearl Jozefzoon\, The Myles Brothers\, De Stroatklinkers en uiteraard Volharding Ten Boer. \n \nU bent van harte uitgenodigd om samen met ons Kerst te vieren in de sporthal van Ten Boer. \nOndanks dat dit de grootste editie ooit wordt\, is het ons gelukt de toegang gratis te houden. Wel vragen wij u om\, indien mogelijk\, een kleine donatie te doen. Dit kan tijdens de avond zelf\, maar u kunt ons ook nu al steunen via de QR-code op de flyer (binnenkort in uw brievenbus) of via de link hieronder. Alvast hartelijk dank voor uw steun! \n \nWe kijken ernaar uit u te verwelkomen op 23 december!
URL:https://pearljozefzoon.com/evenement/kerstzangavond-2025-ten-boer/
LOCATION:Tiggelhal Ten Boer\, Sportlaan\, Ten Boer\, 9791 LX\, Netherlands
END:VEVENT
BEGIN:VEVENT
DTSTART;TZID=Europe/Amsterdam:20260327T200000
DTEND;TZID=Europe/Amsterdam:20260327T230000
DTSTAMP:20260422T015800
CREATED:20260120T094437Z
LAST-MODIFIED:20260120T094550Z
UID:1071-1774641600-1774652400@pearljozefzoon.com
SUMMARY:Gospelcelebration Leeuwarden - Elvis E\, Pearl Jozefzoon & Gideon
DESCRIPTION:Gospelcelebrations is terug! Na negen uitverkochte concerten en meer dan tienduizend enthousiaste bezoekers trekken we ook in 2026 door heel Nederland om samen onvergetelijke avonden te beleven. Met topartiesten zoals Elvis E\, Pearl Jozefzoon\, Gideon en het ZA-EL Gospel Choir beloven we een reeks muzikale feestjes die je niet wil missen. En extra leuk: de concerten zijn gratis toegankelijk! \nOnder leiding van muzikaal leider Elvis E geniet je van een sprankelend programma vol pop- en gospelsongs. Samen met zijn vrienden – gastartiesten\, een krachtige liveband\, showkoor ZA-EL en Sound of Gospel – zet Elvis E een avond neer die bruist van energie. \nIeder concert is een feest waar artiesten alles geven en het publiek volop meedoet. Daarnaast deelt dominee Bottenbley een korte inspirerende boodschap\, zodat bezoekers niet alleen kennismaken met de kracht van black gospelmuziek\, maar ook met de liefde van het christelijke geloof. \nKom\, zing\, klap en beleef het mee – want dit wil je niet missen! \nBen jij erbij? Neem al je vrienden mee\, want toegang is gratis. Reserveer wel even je ticket(s) via eventbrite. Zo weten we hoeveel mensen we mogen verwachten. Dit evenement is ook geschikt voor mensen die Jezus nog niet kennen. Nodig jouw ongelovige netwerk dus zeker uit om hen enthousiast te maken voor het geloof. \n  \nTICKETS >>> \n  \n 
URL:https://pearljozefzoon.com/evenement/gospelcelebration-leeuwarden-elvis-e-pearl-jozefzoon-gideon/
LOCATION:Stadskerk De Wijngaard\, 147a Meester P.J. Troelstraweg\, Leeuwarden\, 8919 AA\, Netherlands
END:VEVENT
BEGIN:VEVENT
DTSTART;TZID=Europe/Amsterdam:20260328T100000
DTEND;TZID=Europe/Amsterdam:20260328T160000
DTSTAMP:20260422T015800
CREATED:20251001T192937Z
LAST-MODIFIED:20251001T192937Z
UID:1002-1774692000-1774713600@pearljozefzoon.com
SUMMARY:Villavie Event
DESCRIPTION:Villavie event: Hét event voor christelijke vrouwen!\nOp zaterdag 28 maart 2026 vieren wij voluit leven met jou! Wat kun je verwachten? \nEen preek van Eline Hoogenboom \nSamen worshippen met Pearl Jozefzoon en band \nVeel lachen \nStille momenten om zelf aan de slag te gaan \nIets lekkers bij de koffie/thee en lunch \nLeuke stands om te shoppen: o.a. Luv Spakenburg en More than Rubies (in een later stadium maken we de andere stands bekend) \nOntmoeting met andere vrouwen
URL:https://pearljozefzoon.com/evenement/villavie-event/
LOCATION:De Schuilplaats\, Otterloseweg 18a\, Ede\, Nederland
END:VEVENT
BEGIN:VEVENT
DTSTART;TZID=Europe/Amsterdam:20260329T120000
DTEND;TZID=Europe/Amsterdam:20260329T163000
DTSTAMP:20260422T015800
CREATED:20260326T195303Z
LAST-MODIFIED:20260326T195303Z
UID:1076-1774785600-1774801800@pearljozefzoon.com
SUMMARY:Besloten Event te Son en Breugel
DESCRIPTION:
URL:https://pearljozefzoon.com/evenement/besloten-event-te-son-en-breugel/
CATEGORIES:Besloten event
END:VEVENT
BEGIN:VEVENT
DTSTART;TZID=Europe/Amsterdam:20260410T201500
DTEND;TZID=Europe/Amsterdam:20260410T221500
DTSTAMP:20260422T015800
CREATED:20250912T095739Z
LAST-MODIFIED:20260407T091827Z
UID:973-1775852100-1775859300@pearljozefzoon.com
SUMMARY:A Night Of Gospel With Pearl & Friends - Helmond
DESCRIPTION:Aan de hand van liedjes en verhalen neemt Pearl Jozefzoon je mee in de wereld van de gospel. Mooie anekdotes uit haar leven en bijzondere nummers\, maar ook (wereld)bekende nummers met een gospelsausje komen voorbij. Zo puur heb je Pearl nog niet eerder gezien\, want haar echte passie ligt bij gospel! \nPearl en gospel zijn onlosmakelijk met elkaar verbonden. Reden genoeg om de theaters in te gaan met een wervelende\, nieuwe show. Met haar loepzuivere stem wist de zangeres tijdens concerten\, musicals en TV-optredens al indruk te maken\, maar ‘A Night of Gospel’ doet ze niet alleen. Bij gospel gaat het namelijk om samenzang! Om de beleving compleet te maken\, komt ze met een voltallig gospelkoor\, ondersteund door een ‘full band’. Iedereen op het podium heeft zijn of haar sporen al verdiend in de muziekwereld. \nDe afgelopen jaren heeft Pearl samen mogen werken met tal van bekende vocalisten. Allen zijn ze gecharmeerd van de kwaliteiten van Pearl als zangeres én als persoon. Bij elk concert zal een topzanger(es) meezingen\, met natuurlijk ook eigen liedjes met een gospelsound. Zo wordt elk concert van ‘A Night of Gospel’ uniek. \nTICKETS >>>
URL:https://pearljozefzoon.com/evenement/a-night-of-gospel-with-pearl-friends-helmond/
LOCATION:Theater Het Speelhuis\, Speelhuisplein 2\, Helmond\, 5707 DZ\, Netherlands
CATEGORIES:Theaterconcert
ATTACH;FMTTYPE=image/jpeg:https://pearljozefzoon.com/wp-content/uploads/2024/10/A-Night-of-Gospel_Web.jpg
END:VEVENT
BEGIN:VEVENT
DTSTART;TZID=Europe/Amsterdam:20260519T200000
DTEND;TZID=Europe/Amsterdam:20260519T221500
DTSTAMP:20260422T015800
CREATED:20250913T100144Z
LAST-MODIFIED:20260407T091726Z
UID:978-1779220800-1779228900@pearljozefzoon.com
SUMMARY:A Night Of Gospel With Pearl & Friends - Capelle a/d IJssel
DESCRIPTION:Aan de hand van liedjes en verhalen neemt Pearl Jozefzoon je mee in de wereld van de gospel. Mooie anekdotes uit haar leven en bijzondere nummers\, maar ook (wereld)bekende nummers met een gospelsausje komen voorbij. Zo puur heb je Pearl nog niet eerder gezien\, want haar echte passie ligt bij gospel! \nPearl en gospel zijn onlosmakelijk met elkaar verbonden. Reden genoeg om de theaters in te gaan met een wervelende\, nieuwe show. Met haar loepzuivere stem wist de zangeres tijdens concerten\, musicals en TV-optredens al indruk te maken\, maar ‘A Night of Gospel’ doet ze niet alleen. Bij gospel gaat het namelijk om samenzang! Om de beleving compleet te maken\, komt ze met een voltallig gospelkoor\, ondersteund door een ‘full band’. Iedereen op het podium heeft zijn of haar sporen al verdiend in de muziekwereld. \nDe afgelopen jaren heeft Pearl samen mogen werken met tal van bekende vocalisten. Allen zijn ze gecharmeerd van de kwaliteiten van Pearl als zangeres én als persoon. Bij elk concert zal een topzanger(es) meezingen\, met natuurlijk ook eigen liedjes met een gospelsound. Zo wordt elk concert van ‘A Night of Gospel’ uniek. \nTICKETS >>>
URL:https://pearljozefzoon.com/evenement/a-night-of-gospel-with-pearl-friends-capelle-a-d-ijssel/
LOCATION:Isala Theater\, Stadsplein 5\, Capelle aan den IJssel\, 2903 HH
CATEGORIES:Theaterconcert
ATTACH;FMTTYPE=image/jpeg:https://pearljozefzoon.com/wp-content/uploads/2024/10/A-Night-of-Gospel_Web.jpg
END:VEVENT
BEGIN:VEVENT
DTSTART;TZID=Europe/Amsterdam:20260529T201500
DTEND;TZID=Europe/Amsterdam:20260529T221500
DTSTAMP:20260422T015800
CREATED:20251001T181330Z
LAST-MODIFIED:20251017T134219Z
UID:987-1780085700-1780092900@pearljozefzoon.com
SUMMARY:A Night Of Gospel With Pearl & Friends - Winschoten
DESCRIPTION:Aan de hand van liedjes en verhalen neemt Pearl Jozefzoon je mee in de wereld van de gospel. Mooie anekdotes uit haar leven en bijzondere nummers\, maar ook (wereld)bekende nummers met een gospelsausje komen voorbij. Zo puur heb je Pearl nog niet eerder gezien\, want haar echte passie ligt bij gospel! \nPearl en gospel zijn onlosmakelijk met elkaar verbonden. Reden genoeg om de theaters in te gaan met een wervelende\, nieuwe show. Met haar loepzuivere stem wist de zangeres tijdens concerten\, musicals en TV-optredens al indruk te maken\, maar ‘A Night of Gospel’ doet ze niet alleen. Bij gospel gaat het namelijk om samenzang! Om de beleving compleet te maken\, komt ze met een voltallig gospelkoor\, ondersteund door een ‘full band’. Iedereen op het podium heeft zijn of haar sporen al verdiend in de muziekwereld. \nDe afgelopen jaren heeft Pearl samen mogen werken met tal van bekende vocalisten. Allen zijn ze gecharmeerd van de kwaliteiten van Pearl als zangeres én als persoon. Bij elk concert zal een topzanger(es) meezingen\, met natuurlijk ook eigen liedjes met een gospelsound. Zo wordt elk concert van ‘A Night of Gospel’ uniek. \nTICKETS >>>
URL:https://pearljozefzoon.com/evenement/a-night-of-gospel-with-pearl-friends-winschoten/
LOCATION:Cultuurhuis de Klinker\, Mr. D.U. Stikkerlaan 251\, Winschoten\, 9675 DG\, Netherlands
CATEGORIES:Theaterconcert
ATTACH;FMTTYPE=image/jpeg:https://pearljozefzoon.com/wp-content/uploads/2024/10/A-Night-of-Gospel_Web.jpg
END:VEVENT
END:VCALENDAR